
BEGIN:VCALENDAR
VERSION:2.0
METHOD:PUBLISH
PRODID:-//Virginia Tech//VTCalendar//EN
BEGIN:VEVENT
DTSTAMP:20141005T160000Z
UID:1395899905594@www.appgadget.com
CATEGORIES:Public Welcome
DTSTART:20141005T160000Z
DTEND:20141005T220000Z
SUMMARY:Oktoberfest
DESCRIPTION:
 Come in Lederhosen and Dirndl and take part in 
 celebrating Oktoberfest! \n
 Enoy dancing to The 
 Bajuk Trio Band and watch our Schuplatter 
 Dancers perform.\n
 \n
 Plenty of beer and food at 
 this outdoor festival.  Children are welcome. 
 Admission is $10.00. Kitchen opens at 1:00.\n\n
LOCATION:Oakland Nature Friends
END:VEVENT
END:VCALENDAR
